BEGIN:VCALENDAR
VERSION:2.0
PRODID:icalendar-ruby
CALSCALE:GREGORIAN
METHOD:PUBLISH
BEGIN:VTIMEZONE
TZID:Australia/Brisbane
BEGIN:STANDARD
DTSTART:19920301T020000
TZOFFSETFROM:+1100
TZOFFSETTO:+1000
TZNAME:AEST
END:STANDARD
END:VTIMEZONE
BEGIN:VEVENT
DTSTAMP:20260422T064204Z
UID:inspection_2998867
DTSTART;TZID=Australia/Brisbane:20260426T100000
DTEND;TZID=Australia/Brisbane:20260426T103000
CLASS:PUBLIC
CREATED:20260415T151143
DESCRIPTION: 
LAST-MODIFIED:20260415T151143
LOCATION:25 / 7 Mariners Drive\, TOWNSVILLE CITY QLD 4810\, Australia
SUMMARY:25 / 7 Mariners Drive\,  Inspection
URL;VALUE=URI:http://www.janicegallagherrealestate.com.au/
END:VEVENT
END:VCALENDAR
