BEGIN:VCALENDAR
VERSION:2.0
PRODID:icalendar-ruby
CALSCALE:GREGORIAN
METHOD:PUBLISH
BEGIN:VTIMEZONE
TZID:Australia/Brisbane
BEGIN:STANDARD
DTSTART:19920301T020000
TZOFFSETFROM:+1100
TZOFFSETTO:+1000
TZNAME:AEST
END:STANDARD
END:VTIMEZONE
BEGIN:VEVENT
DTSTAMP:20260422T063921Z
UID:inspection_2998873
DTSTART;TZID=Australia/Brisbane:20260426T104500
DTEND;TZID=Australia/Brisbane:20260426T113000
CLASS:PUBLIC
CREATED:20260415T151315
DESCRIPTION: 
LAST-MODIFIED:20260415T151315
LOCATION:1 / 78 Paxton Street\, NORTH WARD QLD 4810\, Australia
SUMMARY:1 / 78 Paxton Street\,  Inspection
URL;VALUE=URI:http://www.janicegallagherrealestate.com.au/
END:VEVENT
END:VCALENDAR
